BEGIN:VCALENDAR
VERSION:2.0
PRODID:-//AWO IDSTEIN - ECPv6.15.20//NONSGML v1.0//EN
CALSCALE:GREGORIAN
METHOD:PUBLISH
X-ORIGINAL-URL:https://awo-idstein.com
X-WR-CALDESC:Veranstaltungen für AWO IDSTEIN
REFRESH-INTERVAL;VALUE=DURATION:PT1H
X-Robots-Tag:noindex
X-PUBLISHED-TTL:PT1H
BEGIN:VTIMEZONE
TZID:UTC
BEGIN:STANDARD
TZOFFSETFROM:+0000
TZOFFSETTO:+0000
TZNAME:UTC
DTSTART:20230101T000000
END:STANDARD
END:VTIMEZONE
BEGIN:VEVENT
DTSTART;TZID=UTC:20260316T153000
DTEND;TZID=UTC:20260316T170000
DTSTAMP:20260420T102703
CREATED:20251117T110100Z
LAST-MODIFIED:20260117T090721Z
UID:7602-1773675000-1773680400@awo-idstein.com
SUMMARY:Bericht über Kreta - Heimat der Götter
DESCRIPTION:Bericht über Kreta – Heimat der Götter \nReferentin: Renate Henge
URL:https://awo-idstein.com/https-awo-idstein-com-aktuelles-single-post-name/bericht-ueber-kreta-heimat-der-goetter/
LOCATION:Felsenkeller in Idstein\, Schulgasse 1\, Idstein\, 65510
CATEGORIES:allgemeine-veranstaltung,awo-treff,Veranstaltungen
ATTACH;FMTTYPE=image/jpeg:https://awo-idstein.com/wp-content/uploads/spenden-banner_v2.jpg
END:VEVENT
BEGIN:VEVENT
DTSTART;TZID=UTC:20260216T153000
DTEND;TZID=UTC:20260216T170000
DTSTAMP:20260420T102703
CREATED:20251117T105948Z
LAST-MODIFIED:20260117T090633Z
UID:7600-1771255800-1771261200@awo-idstein.com
SUMMARY:Allgemeine Gesundheitstipps und Informationen über Schüsslersalze
DESCRIPTION:Allgemeine Gesundheitstipps und Informationen über Schüsslersalze \nReferent: Apotheker Herr Engering (Hexenapotheke Idstein) \nAnschließend Krebbel-Kaffee
URL:https://awo-idstein.com/https-awo-idstein-com-aktuelles-single-post-name/allgemeine-gesundheitstipps-und-informationen/
LOCATION:Felsenkeller in Idstein\, Schulgasse 1\, Idstein\, 65510
CATEGORIES:allgemeine-veranstaltung,awo-treff,Veranstaltungen
ATTACH;FMTTYPE=image/jpeg:https://awo-idstein.com/wp-content/uploads/spenden-banner_v2.jpg
END:VEVENT
BEGIN:VEVENT
DTSTART;TZID=UTC:20260119T153000
DTEND;TZID=UTC:20260119T170000
DTSTAMP:20260420T102703
CREATED:20251117T105818Z
LAST-MODIFIED:20260118T092533Z
UID:7598-1768836600-1768842000@awo-idstein.com
SUMMARY:Gedächtnistraining mit Frau Kiekäfer
DESCRIPTION:Gedächtnistraining mit Frau Kiekäfer
URL:https://awo-idstein.com/https-awo-idstein-com-aktuelles-single-post-name/gedaechtnistraining-mit-frau-kiekaefer/
LOCATION:Felsenkeller in Idstein\, Schulgasse 1\, Idstein\, 65510
CATEGORIES:allgemeine-veranstaltung,awo-treff,Veranstaltungen
ATTACH;FMTTYPE=image/jpeg:https://awo-idstein.com/wp-content/uploads/spenden-banner_v2.jpg
END:VEVENT
BEGIN:VEVENT
DTSTART;TZID=UTC:20260117T110000
DTEND;TZID=UTC:20260117T130000
DTSTAMP:20260420T102703
CREATED:20241029T073552Z
LAST-MODIFIED:20260117T090346Z
UID:7501-1768647600-1768654800@awo-idstein.com
SUMMARY:Mitgliederversammlung
DESCRIPTION:Mitgliederversammlung des AWO-Ortsvereins Idsteiner Land \nHaus der Begegnung\nSchulgasse 7\n65510 Idstein \nBeginn: 11:00
URL:https://awo-idstein.com/https-awo-idstein-com-aktuelles-single-post-name/mitgliederversammlung/
CATEGORIES:allgemeine-veranstaltung,Veranstaltungen
ATTACH;FMTTYPE=image/png:https://awo-idstein.com/wp-content/uploads/awo-ortsverband_logo-v1.png
END:VEVENT
BEGIN:VEVENT
DTSTART;TZID=UTC:20251011T160000
DTEND;TZID=UTC:20251011T160000
DTSTAMP:20260420T102703
CREATED:20251006T213820Z
LAST-MODIFIED:20251006T214727Z
UID:7590-1760198400-1760198400@awo-idstein.com
SUMMARY:Armut und soziale Ungleichheit - Vortrag
DESCRIPTION:Thema: Armut und soziale Ungleichheit – Gift für den gesellschaftlichen Zusammenhalt und eine Gefahr für die Demokratie? \nVortrag: Prof. Butterwegge \nOrt: Unionskirche Idstein \nZeit: 16:00 \nEintritt frei
URL:https://awo-idstein.com/https-awo-idstein-com-aktuelles-single-post-name/armut-und-soziale-ungleichheit-vortrag-2/
CATEGORIES:Veranstaltungen
ATTACH;FMTTYPE=image/png:https://awo-idstein.com/wp-content/uploads/android-chrome-512x512-1.png
END:VEVENT
BEGIN:VEVENT
DTSTART;TZID=UTC:20250915T153000
DTEND;TZID=UTC:20250915T170000
DTSTAMP:20260420T102703
CREATED:20250408T174826Z
LAST-MODIFIED:20250408T174826Z
UID:7561-1757950200-1757955600@awo-idstein.com
SUMMARY:Digitaler Nachlass
DESCRIPTION:Digitaler Nachlass \nÖncel Saygin
URL:https://awo-idstein.com/https-awo-idstein-com-aktuelles-single-post-name/digitaler-nachlass/
LOCATION:Felsenkeller in Idstein\, Schulgasse 1\, Idstein\, 65510
CATEGORIES:awo-treff
ATTACH;FMTTYPE=image/jpeg:https://awo-idstein.com/wp-content/uploads/spenden-banner_v2.jpg
END:VEVENT
BEGIN:VEVENT
DTSTART;TZID=UTC:20250818T153000
DTEND;TZID=UTC:20250818T170000
DTSTAMP:20260420T102703
CREATED:20241029T073302Z
LAST-MODIFIED:20250408T174639Z
UID:7497-1755531000-1755536400@awo-idstein.com
SUMMARY:Aufgaben des Eine-Welt-Ladens
DESCRIPTION:Aufgaben des Eine-Welt-Ladens \nMichael Klas
URL:https://awo-idstein.com/https-awo-idstein-com-aktuelles-single-post-name/vortrag-mit-bildern-ueber-tessin/
LOCATION:Felsenkeller in Idstein\, Schulgasse 1\, Idstein\, 65510
CATEGORIES:awo-treff
ATTACH;FMTTYPE=image/jpeg:https://awo-idstein.com/wp-content/uploads/spenden-banner_v2.jpg
END:VEVENT
BEGIN:VEVENT
DTSTART;TZID=UTC:20250721T153000
DTEND;TZID=UTC:20250721T170000
DTSTAMP:20260420T102703
CREATED:20241029T073430Z
LAST-MODIFIED:20250408T174425Z
UID:7499-1753111800-1753117200@awo-idstein.com
SUMMARY:Reisebericht: Amrum aktuell
DESCRIPTION:Reisebericht: Amrum aktuell \nRenate Henge
URL:https://awo-idstein.com/https-awo-idstein-com-aktuelles-single-post-name/lesung-mit-bildern/
LOCATION:Felsenkeller in Idstein\, Schulgasse 1\, Idstein\, 65510
CATEGORIES:awo-treff
ATTACH;FMTTYPE=image/jpeg:https://awo-idstein.com/wp-content/uploads/spenden-banner_v2.jpg
END:VEVENT
BEGIN:VEVENT
DTSTART;TZID=UTC:20250626T080000
DTEND;TZID=UTC:20250626T193000
DTSTAMP:20260420T102703
CREATED:20250516T195023Z
LAST-MODIFIED:20250516T195422Z
UID:7567-1750924800-1750966200@awo-idstein.com
SUMMARY:AWO-Tagesfahrt nach Bad Neuenahr - Ahrweiler
DESCRIPTION:Am 26. Juni Fahrt über den Nürburgring nach Bad Neuenahr-Ahrweiler\nAbfahrt: Mit dem Bus geht es um 08.00 Uhr von Idstein-Kern (Bushaltestelle gegenüber Hotel „Felsenkeller“ zunächst nach Metternich (84km)\, wo wir unsere Reiseleiterin treffen-\, die uns den ganzen Tag begleiten und viel wissenswertes erzählen wird. \nWir fahren durch die Eifel zum Nürburgring (mit kurzem Zwischenstopp) nach Insul (ca 75km).\nMittagessen um ca 12.00 Uhr : Reibekuchenbuffet mit tollen Beilagen- im Landhotel Ewerts in Insul. \nCa. 13.30 Uhr: Weiterfahrt nach Mayschoß ( ca. 18 km). \nCa. 14.15 Uhr: Besichtigung der ältesten Winzergenossenschaft der Welt incl. 1 Probe im bedruckten Weingläschen \nCa. 15.15 Uhr: Weiterfahrt entlang der Ahr nach Bad-Neuenahr -Ahrweiler ( ca. 13 km) Kleine Führung und Aufenthalt zur freien Verfügung mit Gelegenheit zur Kaffeepause 17.30 Uhr: Rückfahrt über Metternich (Ausstieg der Reiseleiterin) \nCa. 19.00/19.30 Uhr \nKosten: € 45\,-für AWO -Mitglieder\, € 50\,- für Nichtmitglieder\nIn den Kosten sind Fahrt\, Reiseleitung und das Mittagessen bereits enthalten! \nAnmeldung und Bezahlung : Bitte teilen Sie der AWO OV Idsteiner Land Ihre Teilnahme mit und geben Sie Ihre E-Mail oder Telefonnummer für evtl. Rückfragen oder Informationen an (Info an S.Hölzel siehe unten) und überweisen Sie den.ßetrag auf das Konto: \nArbeiterwohlfahrt Idstein NASPA IBAN DE36510500150352063061 \nMit dem Eingang des Geldes sind Sie verbindlich angemeldet. Eine Bestätigung durch die AWO erfolgt nicht. Die Platzvergabe erfolgt nach der reihenfolge der Überweisung. Sollten alle Plätze besetzt sein\, informiert Sie die AWO. Sollten Sie die Tagesreise absagen müssen\, so erhalten Sie den Betrag nur zurück\, wenn Sie oder die AWO eine Ersatzperson finden. \nAWO OV Idsteiner Land\nSven Hölzel\nSchöne Aussicht 46\n65510 Idstein-KernTel. 06126-6183\nE-Mail : hoelzel-idstein@t-online.de \nPDF DOKUMENT HERUNTERLADEN
URL:https://awo-idstein.com/https-awo-idstein-com-aktuelles-single-post-name/awo-tagesfahrt-nach-bad-neuenahr-ahrweiler/
CATEGORIES:allgemeine-veranstaltung
ATTACH;FMTTYPE=image/jpeg:https://awo-idstein.com/wp-content/uploads/AWO-Reisen-Titelbild-1.jpg
END:VEVENT
BEGIN:VEVENT
DTSTART;TZID=UTC:20250616T153000
DTEND;TZID=UTC:20250616T170000
DTSTAMP:20260420T102703
CREATED:20250121T062057Z
LAST-MODIFIED:20250408T174031Z
UID:7509-1750087800-1750093200@awo-idstein.com
SUMMARY:Vortrag Demenz
DESCRIPTION:Thema: Vortrag Demenz \nVolkmar Schwabe
URL:https://awo-idstein.com/https-awo-idstein-com-aktuelles-single-post-name/lichtbildervortrag/
LOCATION:Felsenkeller in Idstein\, Schulgasse 1\, Idstein\, 65510
CATEGORIES:awo-treff
ATTACH;FMTTYPE=image/jpeg:https://awo-idstein.com/wp-content/uploads/spenden-banner_v2.jpg
END:VEVENT
BEGIN:VEVENT
DTSTART;TZID=UTC:20250519T153000
DTEND;TZID=UTC:20250519T170000
DTSTAMP:20260420T102703
CREATED:20250121T061934Z
LAST-MODIFIED:20250408T174126Z
UID:7507-1747668600-1747674000@awo-idstein.com
SUMMARY:Auf der Seine von Paris nach Le Havre - Auf den Spuren von Monet und Van Gogh
DESCRIPTION:Thema: Auf der Seine von Paris nach Le Havre – Auf den Spuren von Monet und Van Gogh \nRenate Henge
URL:https://awo-idstein.com/https-awo-idstein-com-aktuelles-single-post-name/vortrag/
LOCATION:Felsenkeller in Idstein\, Schulgasse 1\, Idstein\, 65510
CATEGORIES:awo-treff
ATTACH;FMTTYPE=image/jpeg:https://awo-idstein.com/wp-content/uploads/spenden-banner_v2.jpg
END:VEVENT
BEGIN:VEVENT
DTSTART;TZID=UTC:20250208T150000
DTEND;TZID=UTC:20250208T150000
DTSTAMP:20260420T102703
CREATED:20250122T173020Z
LAST-MODIFIED:20250203T224433Z
UID:7511-1739026800-1739026800@awo-idstein.com
SUMMARY:Kabarett "Gladiator mit Rollator"
DESCRIPTION:Kabarett „Gladiator mit Rollator“\nBeginn: 15:00 Uhr
URL:https://awo-idstein.com/https-awo-idstein-com-aktuelles-single-post-name/kabarett-gladiator-mit-rollator/
CATEGORIES:allgemeine-veranstaltung
ATTACH;FMTTYPE=image/png:https://awo-idstein.com/wp-content/uploads/awo-ortsverband_logo-v1.png
END:VEVENT
BEGIN:VEVENT
DTSTART;TZID=UTC:20250120T153000
DTEND;TZID=UTC:20250120T170000
DTSTAMP:20260420T102703
CREATED:20240514T061848Z
LAST-MODIFIED:20241029T073155Z
UID:7409-1737387000-1737392400@awo-idstein.com
SUMMARY:Die Arbeit der Gemeindeschwester
DESCRIPTION:Die Arbeit der Gemeindeschwester\nDie Gemeindeschwester\, Frau Fischer\, stellt sich und ihre Arbeit vor
URL:https://awo-idstein.com/https-awo-idstein-com-aktuelles-single-post-name/offener-awo-treff-3/
LOCATION:Felsenkeller in Idstein\, Schulgasse 1\, Idstein\, 65510
ATTACH;FMTTYPE=image/jpeg:https://awo-idstein.com/wp-content/uploads/spenden-banner_v2.jpg
END:VEVENT
BEGIN:VEVENT
DTSTART;TZID=UTC:20241216T153000
DTEND;TZID=UTC:20241216T210000
DTSTAMP:20260420T102703
CREATED:20240403T091951Z
LAST-MODIFIED:20241029T072503Z
UID:6394-1734363000-1734382800@awo-idstein.com
SUMMARY:Weihnachtsfeier
DESCRIPTION:Weihnachtsfeier des AWO-Ortsvereins Idsteiner Land\nAusnahmsweise nur für Mitglieder!
URL:https://awo-idstein.com/https-awo-idstein-com-aktuelles-single-post-name/offener-awo-treff/
LOCATION:Felsenkeller in Idstein\, Schulgasse 1\, Idstein\, 65510
ATTACH;FMTTYPE=image/jpeg:https://awo-idstein.com/wp-content/uploads/spenden-banner_v2.jpg
END:VEVENT
BEGIN:VEVENT
DTSTART;TZID=UTC:20241118T153000
DTEND;TZID=UTC:20241118T170000
DTSTAMP:20260420T102703
CREATED:20241029T072623Z
LAST-MODIFIED:20241029T072623Z
UID:7493-1731943800-1731949200@awo-idstein.com
SUMMARY:Hilfsprojekte für indische Waisen- und Straßenkinder
DESCRIPTION:„Hilfsprojekte für indische Waisen- und Straßenkinder“ Frau Ute Samson stellt die Arbeit des Vereins Amamundum vor.
URL:https://awo-idstein.com/https-awo-idstein-com-aktuelles-single-post-name/hilfsprojekte-fuer-indische-waisen-und-strassenkinder/
LOCATION:Felsenkeller in Idstein\, Schulgasse 1\, Idstein\, 65510
ATTACH;FMTTYPE=image/jpeg:https://awo-idstein.com/wp-content/uploads/spenden-banner_v2.jpg
END:VEVENT
END:VCALENDAR