BEGIN:VCALENDAR
VERSION:2.0
PRODID:-//AWO IDSTEIN - ECPv6.15.20//NONSGML v1.0//EN
CALSCALE:GREGORIAN
METHOD:PUBLISH
X-WR-CALNAME:AWO IDSTEIN
X-ORIGINAL-URL:https://awo-idstein.com
X-WR-CALDESC:Veranstaltungen für AWO IDSTEIN
REFRESH-INTERVAL;VALUE=DURATION:PT1H
X-Robots-Tag:noindex
X-PUBLISHED-TTL:PT1H
BEGIN:VTIMEZONE
TZID:UTC
BEGIN:STANDARD
TZOFFSETFROM:+0000
TZOFFSETTO:+0000
TZNAME:UTC
DTSTART:20240101T000000
END:STANDARD
END:VTIMEZONE
BEGIN:VEVENT
DTSTART;TZID=UTC:20250208T150000
DTEND;TZID=UTC:20250208T150000
DTSTAMP:20260421T095032
CREATED:20250122T173020Z
LAST-MODIFIED:20250203T224433Z
UID:7511-1739026800-1739026800@awo-idstein.com
SUMMARY:Kabarett "Gladiator mit Rollator"
DESCRIPTION:Kabarett „Gladiator mit Rollator“\nBeginn: 15:00 Uhr
URL:https://awo-idstein.com/https-awo-idstein-com-aktuelles-single-post-name/kabarett-gladiator-mit-rollator/
CATEGORIES:allgemeine-veranstaltung
ATTACH;FMTTYPE=image/png:https://awo-idstein.com/wp-content/uploads/awo-ortsverband_logo-v1.png
END:VEVENT
END:VCALENDAR