BEGIN:VCALENDAR
VERSION:2.0
PRODID:-//AWO IDSTEIN - ECPv6.15.20//NONSGML v1.0//EN
CALSCALE:GREGORIAN
METHOD:PUBLISH
X-WR-CALNAME:AWO IDSTEIN
X-ORIGINAL-URL:https://awo-idstein.com
X-WR-CALDESC:Veranstaltungen für AWO IDSTEIN
REFRESH-INTERVAL;VALUE=DURATION:PT1H
X-Robots-Tag:noindex
X-PUBLISHED-TTL:PT1H
BEGIN:VTIMEZONE
TZID:UTC
BEGIN:STANDARD
TZOFFSETFROM:+0000
TZOFFSETTO:+0000
TZNAME:UTC
DTSTART:20240101T000000
END:STANDARD
END:VTIMEZONE
BEGIN:VEVENT
DTSTART;TZID=UTC:20250818T153000
DTEND;TZID=UTC:20250818T170000
DTSTAMP:20260421T000003
CREATED:20241029T073302Z
LAST-MODIFIED:20250408T174639Z
UID:7497-1755531000-1755536400@awo-idstein.com
SUMMARY:Aufgaben des Eine-Welt-Ladens
DESCRIPTION:Aufgaben des Eine-Welt-Ladens \nMichael Klas
URL:https://awo-idstein.com/https-awo-idstein-com-aktuelles-single-post-name/vortrag-mit-bildern-ueber-tessin/
LOCATION:Felsenkeller in Idstein\, Schulgasse 1\, Idstein\, 65510
CATEGORIES:awo-treff
ATTACH;FMTTYPE=image/jpeg:https://awo-idstein.com/wp-content/uploads/spenden-banner_v2.jpg
END:VEVENT
END:VCALENDAR